{"text_format":"1","workbook":"xlsx","n_sheets":5,"sheets":["configuration","modified hex slots (V2)","modified hex slots","original hex slots","original dec slots"],"not_rendered":{"charts":2,"images":0,"macros":0,"external_links":0,"defined_names":0,"comments":0,"pivot_tables":0},"unopened":[],"bounds":{"document_bytes":16777216,"sheet_cells":100000,"rows_first":2000,"rows_last":500,"rows_between":2000,"halvings":0,"cell_chars":16384,"cell_head_chars":4096},"cells_cut":0,"cells_raw":0,"read":"whole","date_system":"1900"}

{"sheet":"configuration","index":0,"n_rows":62,"n_cols":7,"rows_kept":62,"cut":false,"hidden":false,"merged":[]}
[]
["DDT4all RS slots configurator"]
[]
["Set basic parameters",null,null,"Only edit fields with these colors:"]
["Max power",325,"hp"]
["Max torque",420,"Nm"]
["Max turbo pressure",1600,"mbar"]
["Max rpm",6800]
[]
[]
["Enable / Disable individual RS monitor screens"]
["Wheelspin","ON"]
["EDC present","ON"]
["Oscilloscope","ON"]
["GPS Stopwatch","OFF"]
["R.S. Maintenance","OFF",null,null,null,null,"Triggerhappy @ ClioClub.info 2020"]
["Advice","OFF"]
["Throttle mapping","ON"]
["Power steering","ON"]
["Shift beep threshold","ON"]
[]
[]
["Torque and power tables"]
[]
["rev/min","torque normal mode (input)","torque sport mode (input)","power normal mode (calculated)","power sport mode (calculated)"]
[0,0,0,{"$f":"B26*A26*0.0014","v":0},{"$f":"C26*A26*0.0014","v":0}]
[900,50,60,{"$f":"(B27*A27*0.0014)/10","v":6.3},{"$f":"(C27*A27*0.0014)/10","v":7.56}]
[{"$f":"A27+218.52","v":1118.52},70,84,{"$f":"(B28*A28*0.0014)/10","v":10.961496},{"$f":"(C28*A28*0.0014)/10","v":13.153795199999999}]
[{"$f":"A28+218.52","v":1337.04},80,96,14.974848,17.969817599999999]
[1555.56,100,115,21.777840000000001,25.044515999999998]
[1774.08,120,138,29.804544,34.275225599999999]
[1992.6,150,173,41.8446,48.260771999999996]
[2211.12,200,230,61.911360000000002,71.198064000000002]
[2429.64,240,285,81.635903999999996,96.942635999999979]
[2648.16,280,350,103.807872,129.75984]
[2866.68,320,400,128.42726399999998,160.53407999999999]
[3085.2,345,420,149.01515999999998,181.40976000000001]
[3303.72,350,420,161.88227999999998,194.25873599999997]
[3522.24,345,420,170.12419199999997,207.10771199999999]
[3740.7599999999998,340,420,178.06017599999998,219.95668799999999]
[3959.2799999999997,335,420,185.69023199999998,232.80566399999998]
[4177.8,333,415,194.76903600000003,242.73018000000002]
[4396.3200000000006,325,410,200.03256000000005,252.34876800000001]
[4614.8400000000011,318,400,205.45267680000006,258.43104000000005]
[4833.3600000000015,315,390,213.15117600000002,263.90145600000011]
[5051.8800000000019,313,380,221.37338160000007,268.76001600000012]
[5270.4000000000024,310,370,228.73536000000007,273.00672000000014]
[5488.9200000000028,310,365,238.21912800000013,280.48381200000011]
[5707.4400000000032,305,350,243.70768800000013,279.66456000000017]
[5925.9600000000037,300,335,248.89032000000014,277.92752400000018]
[6144.4800000000041,295,325,253.76702400000016,279.57384000000019]
[6363.0000000000045,285,314,253.88370000000018,279.71748000000019]
[6581.520000000005,270,297,248.78145600000016,273.6596016000002]
[6800.0400000000054,260,286,247.52145600000017,272.27360160000023]
[]
["Merged modified table data Slot 1 to be copied into DDT4all"]
["ON"]
["OFF"]
[{"$f":"'modified hex slots (V2)'!A42","v":"00020001000A1068010800050CB2010B2EE02EE06D9001075A5ABE010A3C3C7801042EE02EE032C801042EE02EE0345801076E6EA001050000190A0A2710271036B0010A5F5F91010A64646E010000000A010000008C01072EE032C884D0010B00010203040506070204000901010100000001010180808080757575726B6A686561605E615A58546154514B614F4B44614B463E614A443E614B443E614D443E614D443E618080808083838383858584818887877F8C8B897F908F8C7F97958F7F9E9B8F7FA8A28F7FB3A28F7FBAA28F7FBAA28F7F14506E01320128059623000000000000000000000000000000"}]
[]
["Merged modified table data Slot 2 to be copied into DDT4all"]
[{"$f":"'modified hex slots (V2)'!A45","v":"0001000200192328323C4B64788CA0ACAFACAAA7A6A29F9D9C9B9B9896938E87821E2A30394556738EAFC8D2D2D2D2D2CFCDC8C3BEB9B6AFA7A29D948F6A019064057864004E2064635F6401903C03E864646464646464004B007700A800E6012201606464325A6E010696965A829600014502640FDC1C8AB404000000000100015F880F010200030414100A0300284B6E96BE000000000000000000000000000000000000000000000000000000000000000000000000000000000000000000000000000000000000000000000000000000000000000000000000000000000000000000000000000000000000000000"}]

{"sheet":"modified hex slots (V2)","index":1,"n_rows":45,"n_cols":21,"rows_kept":45,"cut":false,"hidden":true,"merged":[]}
[]
[null,null,null,null,null,null,null,"MODIFIED HEX SLOTS MEGANE RS TROPHY STAGE 1"]
[]
[null,null,null,null,null,null,null,null,"Slot 1"]
[null,"00","01","02","03","04","05","06","07","08","09","0A","0B","0C","0D","0E","0F",null,null,null,"Non RS models monitor activation (only by EEPROM reprogram)"]
["00000B10","0B","02","00","02","00","01","00","0A",{"$f":"LEFT(RIGHT(\"0\"&DEC2HEX(configuration!B6*10),4),2)","v":"10"},{"$f":"RIGHT(RIGHT(\"0\"&DEC2HEX(configuration!B6*10),4),2)","v":"68"},"01","08","00","05",{"$f":"LEFT(RIGHT(\"0\"&DEC2HEX(configuration!B5*10),4),2)","v":"0C"},{"$f":"RIGHT(RIGHT(\"0\"&DEC2HEX(configuration!B5*10),4),2)","v":"B2"},null,null,null,"new engine max power"]
["00000B20","01","0B","2E","E0","2E","E0",{"$f":"DEC2HEX(CEILING((configuration!B7+1185)/25.6,1))","v":"6D"},90,"01","07","5A","5A","BE","01","0A","3C",null,null,null,"new engine max torque"]
["00000B30","3C","78","01","04","2E","E0","2E","E0","32","C8","01","04","2E","E0","2E","E0",null,null,null,"new max turbo pressure"]
["00000B40","34","58","01","07","6E","6E","A0","01","05","00","00","19","0A","0A","27","10"]
["00000B50","27","10","36","B0","01","0A","5F","5F","91","01","0A","64","64","6E","01","00"]
["00000B60","00","00","0A","01","00","00","00","8C","01","07","2E","E0","32","C8","84","D0"]
["00000B70","01","0B","00","01","02","03","04","05","06","07","02","04","00","09",{"$f":"IF(configuration!B12=\"ON\",\"01\",\"00\")","v":"01"},{"$f":"IF(configuration!B13=\"ON\",\"01\",\"00\")","v":"01"},null,null,null,"new monitor screen configuration"]
["00000B80",{"$f":"IF(configuration!B14=\"ON\",\"01\",\"00\")","v":"01"},{"$f":"IF(configuration!B15=\"ON\",\"01\",\"00\")","v":"00"},{"$f":"IF(configuration!B16=\"ON\",\"01\",\"00\")","v":"00"},{"$f":"IF(configuration!B17=\"ON\",\"01\",\"00\")","v":"00"},{"$f":"IF(configuration!B18=\"ON\",\"01\",\"00\")","v":"01"},{"$f":"IF(configuration!B19=\"ON\",\"01\",\"00\")","v":"01"},{"$f":"IF(configuration!B20=\"ON\",\"01\",\"00\")","v":"01"},"80","80","80","80","75","75","75","72","6B",null,null,null,"Unknown graphs"]
["00000B90","6A","68","65","61","60","5E","61","5A","58","54","61","54","51","4B","61","4F"]
["00000BA0","4B","44","61","4B","46","3E","61","4A","44","3E","61","4B","44","3E","61","4D"]
["00000BB0","44","3E","61","4D","44","3E","61","80","80","80","80","83","83","83","83","85"]
["00000BC0","85","84","81","88","87","87","7F","8C","8B","89","7F","90","8F","8C","7F","97"]
["00000BD0","95","8F","7F","9E","9B","8F","7F","A8","A2","8F","7F","B3","A2","8F","7F","BA"]
["00000BE0","A2","8F","7F","BA","A2","8F","7F","14","50","6E","01","32","01","28","05","96"]
["00000BF0","23","00","00","00","00","00","00","00","00","00","00","00","00","00","00","00"]
[]
[null,null,null,null,null,null,null,null,"Slot 2"]
[null,"00","01","02","03","04","05","06","07","08","09","0A","0B","0C","0D","0E","0F"]
["00000C00","00","01","00","02","00",{"$f":"DEC2HEX(configuration!B27/2)","v":"19"},{"$f":"DEC2HEX(configuration!B28/2)","v":"23"},{"$f":"DEC2HEX(configuration!B29/2)","v":"28"},{"$f":"DEC2HEX(configuration!B30/2)","v":"32"},{"$f":"DEC2HEX(configuration!B31/2)","v":"3C"},{"$f":"DEC2HEX(configuration!B32/2)","v":"4B"},{"$f":"DEC2HEX(configuration!B33/2)","v":"64"},{"$f":"DEC2HEX(configuration!B34/2)","v":"78"},{"$f":"DEC2HEX(configuration!B35/2)","v":"8C"},{"$f":"DEC2HEX(configuration!B36/2)","v":"A0"},{"$f":"DEC2HEX(configuration!B37/2)","v":"AC"},null,null,null,"new torque values normal mode"]
["00000C10",{"$f":"DEC2HEX(configuration!B38/2)","v":"AF"},{"$f":"DEC2HEX(configuration!B39/2)","v":"AC"},{"$f":"DEC2HEX(configuration!B40/2)","v":"AA"},{"$f":"DEC2HEX(configuration!B41/2)","v":"A7"},{"$f":"DEC2HEX(configuration!B42/2)","v":"A6"},{"$f":"DEC2HEX(configuration!B43/2)","v":"A2"},{"$f":"DEC2HEX(configuration!B44/2)","v":"9F"},{"$f":"DEC2HEX(configuration!B45/2)","v":"9D"},{"$f":"DEC2HEX(configuration!B46/2)","v":"9C"},{"$f":"DEC2HEX(configuration!B47/2)","v":"9B"},{"$f":"DEC2HEX(configuration!B48/2)","v":"9B"},{"$f":"DEC2HEX(configuration!B49/2)","v":"98"},{"$f":"DEC2HEX(configuration!B50/2)","v":"96"},{"$f":"DEC2HEX(configuration!B51/2)","v":"93"},{"$f":"DEC2HEX(configuration!B52/2)","v":"8E"},{"$f":"DEC2HEX(configuration!B53/2)","v":"87"},null,null,null,"new torque values sport mode"]
["00000C20",{"$f":"DEC2HEX(configuration!B54/2)","v":"82"},{"$f":"DEC2HEX(configuration!C27/2)","v":"1E"},{"$f":"DEC2HEX(configuration!C28/2)","v":"2A"},{"$f":"DEC2HEX(configuration!C29/2)","v":"30"},{"$f":"DEC2HEX(configuration!C30/2)","v":"39"},{"$f":"DEC2HEX(configuration!C31/2)","v":"45"},{"$f":"DEC2HEX(configuration!C32/2)","v":"56"},{"$f":"DEC2HEX(configuration!C33/2)","v":"73"},{"$f":"DEC2HEX(configuration!C34/2)","v":"8E"},{"$f":"DEC2HEX(configuration!C35/2)","v":"AF"},{"$f":"DEC2HEX(configuration!C36/2)","v":"C8"},{"$f":"DEC2HEX(configuration!C37/2)","v":"D2"},{"$f":"DEC2HEX(configuration!C38/2)","v":"D2"},{"$f":"DEC2HEX(configuration!C39/2)","v":"D2"},{"$f":"DEC2HEX(configuration!C40/2)","v":"D2"},{"$f":"DEC2HEX(configuration!C41/2)","v":"D2"}]
["00000C30",{"$f":"DEC2HEX(configuration!C42/2)","v":"CF"},{"$f":"DEC2HEX(configuration!C43/2)","v":"CD"},{"$f":"DEC2HEX(configuration!C44/2)","v":"C8"},{"$f":"DEC2HEX(configuration!C45/2)","v":"C3"},{"$f":"DEC2HEX(configuration!C46/2)","v":"BE"},{"$f":"DEC2HEX(configuration!C47/2)","v":"B9"},{"$f":"DEC2HEX(configuration!C48/2)","v":"B6"},{"$f":"DEC2HEX(configuration!C49/2)","v":"AF"},{"$f":"DEC2HEX(configuration!C50/2)","v":"A7"},{"$f":"DEC2HEX(configuration!C51/2)","v":"A2"},{"$f":"DEC2HEX(configuration!C52/2)","v":"9D"},{"$f":"DEC2HEX(configuration!C53/2)","v":"94"},{"$f":"DEC2HEX(configuration!C54/2)","v":"8F"},"6A","01","90"]
["00000C40","64","05","78","64","00","4E","20","64","63","5F","64","01","90","3C","03","E8"]
["00000C50","64","64","64","64","64","64","64","00","4B","00","77","00","A8","00","E6","01"]
["00000C60","22","01","60","64","64","32","5A","6E","01","06","96","96","5A","82","96","00"]
["00000C70","01","45","02","64","0F","DC","1C","8A","B4","04","00","00","00","00","01","00"]
["00000C80","01","5F",{"$f":"DEC2HEX(configuration!B8/100*2)","v":"88"},"0F","01","02","00","03","04","14","10","0A","03","00","28","4B",null,null,null,"new max RPM "]
["00000C90","6E","96","BE","00","00","00","00","00","00","00","00","00","00","00","00","00",null,null,null,"model (Clio GT RS200 RS220 Meg3 RS trophy)"]
[null,"00","00","00","00","00","00","00","00","00","00","00","00","00","00","00","00"]
[null,"00","00","00","00","00","00","00","00","00","00","00","00","00","00","00","00"]
[null,"00","00","00","00","00","00","00","00","00","00","00","00","00","00","00","00"]
[null,"00","00","00","00","00","00","00","00","00","00","00","00","00","00","00","00"]
[null,"00","00","00","00","00","00","00","00","00","00","00","00","00","00","00","00"]
[]
[]
["Merged modified table data Slot 1 to be copied into DDT4all"]
[{"$f":"D6&E6&F6&G6&H6&I6&J6&K6&L6&M6&N6&O6&P6&Q6&B7&C7&D7&E7&F7&G7&H7&I7&J7&K7&L7&M7&N7&O7&P7&Q7&B8&C8&D8&E8&F8&G8&H8&I8&J8&K8&L8&M8&N8&O8&P8&Q8&B9&C9&D9&E9&F9&G9&H9&I9&J9&K9&L9&M9&N9&O9&P9&Q9&B10&C10&D10&E10&F10&G10&H10&I10&J10&K10&L10&M10&N10&O10&P10&Q10&B11&C11&D11&E11&F11&G11&H11&I11&J11&K11&L11&M11&N11&O11&P11&Q11&B12&C12&D12&E12&F12&G12&H12&I12&J12&K12&L12&M12&N12&O12&P12&Q12&B13&C13&D13&E13&F13&G13&H13&I13&J13&K13&L13&M13&N13&O13&P13&Q13&B14&C14&D14&E14&F14&G14&H14&I14&J14&K14&L14&M14&N14&O14&P14&Q14&B15&C15&D15&E15&F15&G15&H15&I15&J15&K15&L15&M15&N15&O15&P15&Q15&B16&C16&D16&E16&F16&G16&H16&I16&J16&K16&L16&M16&N16&O16&P16&Q16&B17&C17&D17&E17&F17&G17&H17&I17&J17&K17&L17&M17&N17&O17&P17&Q17&B18&C18&D18&E18&F18&G18&H18&I18&J18&K18&L18&M18&N18&O18&P18&Q18&B19&C19&D19&E19&F19&G19&H19&I19&J19&K19&L19&M19&N19&O19&P19&Q19&B20&C20&D20&E20&F20&G20&H20&I20&J20&K20&L20&M20&N20&O20&P20&Q20","v":"00020001000A1068010800050CB2010B2EE02EE06D9001075A5ABE010A3C3C7801042EE02EE032C801042EE02EE0345801076E6EA001050000190A0A2710271036B0010A5F5F91010A64646E010000000A010000008C01072EE032C884D0010B00010203040506070204000901010100000001010180808080757575726B6A686561605E615A58546154514B614F4B44614B463E614A443E614B443E614D443E614D443E618080808083838383858584818887877F8C8B897F908F8C7F97958F7F9E9B8F7FA8A28F7FB3A28F7FBAA28F7FBAA28F7F14506E01320128059623000000000000000000000000000000"}]
[]
["Merged modified table data Slot 2 to be copied into DDT4all"]
[{"$f":"B24&C24&D24&E24&F24&G24&H24&I24&J24&K24&L24&M24&N24&O24&P24&Q24&B25&C25&D25&E25&F25&G25&H25&I25&J25&K25&L25&M25&N25&O25&P25&Q25&B26&C26&D26&E26&F26&G26&H26&I26&J26&K26&L26&M26&N26&O26&P26&Q26&B27&C27&D27&E27&F27&G27&H27&I27&J27&K27&L27&M27&N27&O27&P27&Q27&B28&C28&D28&E28&F28&G28&H28&I28&J28&K28&L28&M28&N28&O28&P28&Q28&B29&C29&D29&E29&F29&G29&H29&I29&J29&K29&L29&M29&N29&O29&P29&Q29&B30&C30&D30&E30&F30&G30&H30&I30&J30&K30&L30&M30&N30&O30&P30&Q30&B31&C31&D31&E31&F31&G31&H31&I31&J31&K31&L31&M31&N31&O31&P31&Q31&B32&C32&D32&E32&F32&G32&H32&I32&J32&K32&L32&M32&N32&O32&P32&Q32&B33&C33&D33&E33&F33&G33&H33&I33&J33&K33&L33&M33&N33&O33&P33&Q33&B34&C34&D34&E34&F34&G34&H34&I34&J34&K34&L34&M34&N34&O34&P34&Q34&B35&C35&D35&E35&F35&G35&H35&I35&J35&K35&L35&M35&N35&O35&P35&Q35&B36&C36&D36&E36&F36&G36&H36&I36&J36&K36&L36&M36&N36&O36&P36&Q36&B37&C37&D37&E37&F37&G37&H37&I37&J37&K37&L37&M37&N37&O37&P37&Q37&B38&C38&D38&E38&F38&G38&H38&I38&J38&K38&L38&M38&N38&O38&P38&Q38","v":"0001000200192328323C4B64788CA0ACAFACAAA7A6A29F9D9C9B9B9896938E87821E2A30394556738EAFC8D2D2D2D2D2CFCDC8C3BEB9B6AFA7A29D948F6A019064057864004E2064635F6401903C03E864646464646464004B007700A800E6012201606464325A6E010696965A829600014502640FDC1C8AB404000000000100015F880F010200030414100A0300284B6E96BE000000000000000000000000000000000000000000000000000000000000000000000000000000000000000000000000000000000000000000000000000000000000000000000000000000000000000000000000000000000000000000"}]

{"sheet":"modified hex slots","index":2,"n_rows":46,"n_cols":19,"rows_kept":46,"cut":false,"hidden":true,"merged":[]}
[]
[null,null,null,null,null,null,null,"MODIFIED HEX SLOTS MEGANE RS TROPHY STAGE 1"]
[]
[null,null,null,null,null,null,null,null,"Slot 1"]
[null,"00","01","02","03","04","05","06","07","08","09","0A","0B","0C","0D","0E","0F"]
["00000B10","00","02","00","01","00","0A",{"$f":"LEFT(RIGHT(\"0\"&DEC2HEX(configuration!B6*10),4),2)","v":"10"},{"$f":"RIGHT(RIGHT(\"0\"&DEC2HEX(configuration!B6*10),4),2)","v":"68"},"01","08","00","05",{"$f":"LEFT(RIGHT(\"0\"&DEC2HEX(configuration!B5*10),4),2)","v":"0C"},{"$f":"RIGHT(RIGHT(\"0\"&DEC2HEX(configuration!B5*10),4),2)","v":"B2"},"01","0B",null,"new engine max power"]
["00000B20","2E","E0","2E","E0",{"$f":"DEC2HEX(CEILING((configuration!B7+1185)/25.6,1))","v":"6D"},90,"01","07","5A","5A","BE","01","0A","3C","3C","78",null,"new engine max torque"]
["00000B30","01","04","2E","E0","2E","E0","32","C8","01","04","2E","E0","2E","E0","34","58",null,"new max turbo pressure"]
["00000B40","01","07","6E","6E","A0","01","05","00","00","19","0A","0A","27","10","27","10"]
["00000B50","36","B0","01","0A","5F","5F","91","01","0A","64","64","6E","01","00","00","00"]
["00000B60","0A","01","00","00","00","8C","01","07","2E","E0","32","C8","84","D0","01","0B"]
["00000B70","00","01","02","03","04","05","06","07","02","04","00","09",{"$f":"IF(configuration!B12=\"ON\",\"01\",\"00\")","v":"01"},{"$f":"IF(configuration!B13=\"ON\",\"01\",\"00\")","v":"01"},{"$f":"IF(configuration!B14=\"ON\",\"01\",\"00\")","v":"01"},{"$f":"IF(configuration!B15=\"ON\",\"01\",\"00\")","v":"00"},null,"new monitor screen configuration"]
["00000B80",{"$f":"IF(configuration!B16=\"ON\",\"01\",\"00\")","v":"00"},{"$f":"IF(configuration!B17=\"ON\",\"01\",\"00\")","v":"00"},{"$f":"IF(configuration!B18=\"ON\",\"01\",\"00\")","v":"01"},{"$f":"IF(configuration!B19=\"ON\",\"01\",\"00\")","v":"01"},{"$f":"IF(configuration!B20=\"ON\",\"01\",\"00\")","v":"01"},"80","80","80","80","75","75","75","72","6B","6A","68",null,"Unknown graphs"]
["00000B90","65","61","60","5E","61","5A","58","54","61","54","51","4B","61","4F","4B","44"]
["00000BA0","61","4B","46","3E","61","4A","44","3E","61","4B","44","3E","61","4D","44","3E"]
["00000BB0","61","4D","44","3E","61","80","80","80","80","83","83","83","83","85","85","84"]
["00000BC0","81","88","87","87","7F","8C","8B","89","7F","90","8F","8C","7F","97","95","8F"]
["00000BD0","7F","9E","9B","8F","7F","A8","A2","8F","7F","B3","A2","8F","7F","BA","A2","8F"]
["00000BE0","7F","BA","A2","8F","7F","14","50","6E","01","32","01","28","05","96","23","00"]
["00000BF0","00","00","00","00","00","00","00","00","00","00","00","00","00","00","00","00"]
[]
[]
[null,null,null,null,null,null,null,null,"Slot 2"]
[null,"00","01","02","03","04","05","06","07","08","09","0A","0B","0C","0D","0E","0F"]
["00000C00","00","01","00","02","00",{"$f":"DEC2HEX(configuration!B27/2)","v":"19"},{"$f":"DEC2HEX(configuration!B28/2)","v":"23"},{"$f":"DEC2HEX(configuration!B29/2)","v":"28"},{"$f":"DEC2HEX(configuration!B30/2)","v":"32"},{"$f":"DEC2HEX(configuration!B31/2)","v":"3C"},{"$f":"DEC2HEX(configuration!B32/2)","v":"4B"},{"$f":"DEC2HEX(configuration!B33/2)","v":"64"},{"$f":"DEC2HEX(configuration!B34/2)","v":"78"},{"$f":"DEC2HEX(configuration!B35/2)","v":"8C"},{"$f":"DEC2HEX(configuration!B36/2)","v":"A0"},{"$f":"DEC2HEX(configuration!B37/2)","v":"AC"},null,"new torque values normal mode"]
["00000C10",{"$f":"DEC2HEX(configuration!B38/2)","v":"AF"},{"$f":"DEC2HEX(configuration!B39/2)","v":"AC"},{"$f":"DEC2HEX(configuration!B40/2)","v":"AA"},{"$f":"DEC2HEX(configuration!B41/2)","v":"A7"},{"$f":"DEC2HEX(configuration!B42/2)","v":"A6"},{"$f":"DEC2HEX(configuration!B43/2)","v":"A2"},{"$f":"DEC2HEX(configuration!B44/2)","v":"9F"},{"$f":"DEC2HEX(configuration!B45/2)","v":"9D"},{"$f":"DEC2HEX(configuration!B46/2)","v":"9C"},{"$f":"DEC2HEX(configuration!B47/2)","v":"9B"},{"$f":"DEC2HEX(configuration!B48/2)","v":"9B"},{"$f":"DEC2HEX(configuration!B49/2)","v":"98"},{"$f":"DEC2HEX(configuration!B50/2)","v":"96"},{"$f":"DEC2HEX(configuration!B51/2)","v":"93"},{"$f":"DEC2HEX(configuration!B52/2)","v":"8E"},{"$f":"DEC2HEX(configuration!B53/2)","v":"87"},null,"new torque values sport mode"]
["00000C20",{"$f":"DEC2HEX(configuration!B54/2)","v":"82"},{"$f":"DEC2HEX(configuration!C27/2)","v":"1E"},{"$f":"DEC2HEX(configuration!C28/2)","v":"2A"},{"$f":"DEC2HEX(configuration!C29/2)","v":"30"},{"$f":"DEC2HEX(configuration!C30/2)","v":"39"},{"$f":"DEC2HEX(configuration!C31/2)","v":"45"},{"$f":"DEC2HEX(configuration!C32/2)","v":"56"},{"$f":"DEC2HEX(configuration!C33/2)","v":"73"},{"$f":"DEC2HEX(configuration!C34/2)","v":"8E"},{"$f":"DEC2HEX(configuration!C35/2)","v":"AF"},{"$f":"DEC2HEX(configuration!C36/2)","v":"C8"},{"$f":"DEC2HEX(configuration!C37/2)","v":"D2"},{"$f":"DEC2HEX(configuration!C38/2)","v":"D2"},{"$f":"DEC2HEX(configuration!C39/2)","v":"D2"},{"$f":"DEC2HEX(configuration!C40/2)","v":"D2"},{"$f":"DEC2HEX(configuration!C41/2)","v":"D2"}]
["00000C30",{"$f":"DEC2HEX(configuration!C42/2)","v":"CF"},{"$f":"DEC2HEX(configuration!C43/2)","v":"CD"},{"$f":"DEC2HEX(configuration!C44/2)","v":"C8"},{"$f":"DEC2HEX(configuration!C45/2)","v":"C3"},{"$f":"DEC2HEX(configuration!C46/2)","v":"BE"},{"$f":"DEC2HEX(configuration!C47/2)","v":"B9"},{"$f":"DEC2HEX(configuration!C48/2)","v":"B6"},{"$f":"DEC2HEX(configuration!C49/2)","v":"AF"},{"$f":"DEC2HEX(configuration!C50/2)","v":"A7"},{"$f":"DEC2HEX(configuration!C51/2)","v":"A2"},{"$f":"DEC2HEX(configuration!C52/2)","v":"9D"},{"$f":"DEC2HEX(configuration!C53/2)","v":"94"},{"$f":"DEC2HEX(configuration!C54/2)","v":"8F"},"6A","01","90"]
["00000C40","64","05","78","64","00","4E","20","64","63","5F","64","01","90","3C","03","E8"]
["00000C50","64","64","64","64","64","64","64","00","4B","00","77","00","A8","00","E6","01"]
["00000C60","22","01","60","64","64","32","5A","6E","01","06","96","96","5A","82","96","00"]
["00000C70","01","45","02","64","0F","DC","1C","8A","B4","04","00","00","00","00","01","00"]
["00000C80","01","5F",{"$f":"DEC2HEX(configuration!B8/100*2)","v":"88"},"0F","01","02","00","03","04","14","10","0A","03","00","28","4B",null,"new max RPM "]
["00000C90","6E","96","BE","00","00","00","00","00","00","00","00","00","00","00","00","00",null,"model (Clio GT RS200 RS220 Meg3 RS trophy)"]
[null,"00","00","00","00","00","00","00","00","00","00","00","00","00","00","00","00"]
[null,"00","00","00","00","00","00","00","00","00","00","00","00","00","00","00","00"]
[null,"00","00","00","00","00","00","00","00","00","00","00","00","00","00","00","00"]
[null,"00","00","00","00","00","00","00","00","00","00","00","00","00","00","00","00"]
[null,"00","00","00","00","00","00","00","00","00","00","00","00","00","00","00","00"]
[]
[]
["Merged modified table data Slot 1 to be copied into DDT4all"]
[{"$f":"B6&C6&D6&E6&F6&G6&H6&I6&J6&K6&L6&M6&N6&O6&P6&Q6&B7&C7&D7&E7&F7&G7&H7&I7&J7&K7&L7&M7&N7&O7&P7&Q7&B8&C8&D8&E8&F8&G8&H8&I8&J8&K8&L8&M8&N8&O8&P8&Q8&B9&C9&D9&E9&F9&G9&H9&I9&J9&K9&L9&M9&N9&O9&P9&Q9&B10&C10&D10&E10&F10&G10&H10&I10&J10&K10&L10&M10&N10&O10&P10&Q10&B11&C11&D11&E11&F11&G11&H11&I11&J11&K11&L11&M11&N11&O11&P11&Q11&B12&C12&D12&E12&F12&G12&H12&I12&J12&K12&L12&M12&N12&O12&P12&Q12&B13&C13&D13&E13&F13&G13&H13&I13&J13&K13&L13&M13&N13&O13&P13&Q13&B14&C14&D14&E14&F14&G14&H14&I14&J14&K14&L14&M14&N14&O14&P14&Q14&B15&C15&D15&E15&F15&G15&H15&I15&J15&K15&L15&M15&N15&O15&P15&Q15&B16&C16&D16&E16&F16&G16&H16&I16&J16&K16&L16&M16&N16&O16&P16&Q16&B17&C17&D17&E17&F17&G17&H17&I17&J17&K17&L17&M17&N17&O17&P17&Q17&B18&C18&D18&E18&F18&G18&H18&I18&J18&K18&L18&M18&N18&O18&P18&Q18&B19&C19&D19&E19&F19&G19&H19&I19&J19&K19&L19&M19&N19&O19&P19&Q19&B20&C20&D20&E20&F20&G20&H20&I20&J20&K20&L20&M20&N20&O20&P20&Q20","v":"00020001000A1068010800050CB2010B2EE02EE06D9001075A5ABE010A3C3C7801042EE02EE032C801042EE02EE0345801076E6EA001050000190A0A2710271036B0010A5F5F91010A64646E010000000A010000008C01072EE032C884D0010B00010203040506070204000901010100000001010180808080757575726B6A686561605E615A58546154514B614F4B44614B463E614A443E614B443E614D443E614D443E618080808083838383858584818887877F8C8B897F908F8C7F97958F7F9E9B8F7FA8A28F7FB3A28F7FBAA28F7FBAA28F7F14506E013201280596230000000000000000000000000000000000"}]
[]
["Merged modified table data Slot 2 to be copied into DDT4all"]
[{"$f":"B25&C25&D25&E25&F25&G25&H25&I25&J25&K25&L25&M25&N25&O25&P25&Q25&B26&C26&D26&E26&F26&G26&H26&I26&J26&K26&L26&M26&N26&O26&P26&Q26&B27&C27&D27&E27&F27&G27&H27&I27&J27&K27&L27&M27&N27&O27&P27&Q27&B28&C28&D28&E28&F28&G28&H28&I28&J28&K28&L28&M28&N28&O28&P28&Q28&B29&C29&D29&E29&F29&G29&H29&I29&J29&K29&L29&M29&N29&O29&P29&Q29&B30&C30&D30&E30&F30&G30&H30&I30&J30&K30&L30&M30&N30&O30&P30&Q30&B31&C31&D31&E31&F31&G31&H31&I31&J31&K31&L31&M31&N31&O31&P31&Q31&B32&C32&D32&E32&F32&G32&H32&I32&J32&K32&L32&M32&N32&O32&P32&Q32&B33&C33&D33&E33&F33&G33&H33&I33&J33&K33&L33&M33&N33&O33&P33&Q33&B34&C34&D34&E34&F34&G34&H34&I34&J34&K34&L34&M34&N34&O34&P34&Q34&B35&C35&D35&E35&F35&G35&H35&I35&J35&K35&L35&M35&N35&O35&P35&Q35&B36&C36&D36&E36&F36&G36&H36&I36&J36&K36&L36&M36&N36&O36&P36&Q36&B37&C37&D37&E37&F37&G37&H37&I37&J37&K37&L37&M37&N37&O37&P37&Q37&B38&C38&D38&E38&F38&G38&H38&I38&J38&K38&L38&M38&N38&O38&P38&Q38&B39&C39&D39&E39&F39&G39&H39&I39&J39&K39&L39&M39&N39&O39&P39&Q39","v":"0001000200192328323C4B64788CA0ACAFACAAA7A6A29F9D9C9B9B9896938E87821E2A30394556738EAFC8D2D2D2D2D2CFCDC8C3BEB9B6AFA7A29D948F6A019064057864004E2064635F6401903C03E864646464646464004B007700A800E6012201606464325A6E010696965A829600014502640FDC1C8AB404000000000100015F880F010200030414100A0300284B6E96BE000000000000000000000000000000000000000000000000000000000000000000000000000000000000000000000000000000000000000000000000000000000000000000000000000000000000000000000000000000000000000000"}]

{"sheet":"original hex slots","index":3,"n_rows":41,"n_cols":17,"rows_kept":41,"cut":false,"hidden":true,"merged":[]}
[]
[]
[]
[]
[]
[null,null,null,null,null,null,null,null,"Slot 1"]
[null,"00","01","02","03","04","05","06","07","08","09","0A","0B","0C","0D","0E","0F"]
["00000B10","00","02","00","01","00","0A","0E","10","01","08","00","05","0A","BE","01","0B"]
["00000B20","2E","E0","2E","E0","65","90","01","07","5A","5A","BE","01","0A","3C","3C","78"]
["00000B30","01","04","2E","E0","2E","E0","32","C8","01","04","2E","E0","2E","E0","34","58"]
["00000B40","01","07","6E","6E","A0","01","05","00","00","19","0A","0A","27","10","27","10"]
["00000B50","36","B0","01","0A","5F","5F","91","01","0A","64","64","6E","01","00","00","00"]
["00000B60","0A","01","00","00","00","8C","01","07","2E","E0","32","C8","84","D0","01","0B"]
["00000B70","00","01","02","03","04","05","06","07","02","04","00","09","01","00","01","01"]
["00000B80","01","01","01","00","01","80","80","80","80","75","75","75","72","6B","6A","68"]
["00000B90","65","61","60","5E","61","5A","58","54","61","54","51","4B","61","4F","4B","44"]
["00000BA0","61","4B","46","3E","61","4A","44","3E","61","4B","44","3E","61","4D","44","3E"]
["00000BB0","61","4D","44","3E","61","80","80","80","80","83","83","83","83","85","85","84"]
["00000BC0","81","88","87","87","7F","8C","8B","89","7F","90","8F","8C","7F","97","95","8F"]
["00000BD0","7F","9E","9B","8F","7F","A8","A2","8F","7F","B3","A2","8F","7F","BA","A2","8F"]
["00000BE0","7F","BA","A2","8F","7F","14","50","6E","01","32","01","28","05","96","23","00"]
["00000BF0","00","00","00","00","00","00","00","00","00","00","00","00","00","00","00","00"]
[]
[]
[null,null,null,null,null,null,null,null,"Slot 2"]
[null,"00","01","02","03","04","05","06","07","08","09","0A","0B","0C","0D","0E","0F"]
["00000C00","00","01","00","02","00","52","5F","6F","7F","8F","9A","A3","A7","AA","AA","AA"]
["00000C10","A8","A7","A6","A5","A3","A2","A1","9B","95","8E","86","7E","64","4B","32","32"]
["00000C20","32","52","5F","6F","7F","92","9E","AA","B4","B4","B4","B4","B4","B4","B4","B4"]
["00000C30","B4","B2","B1","B0","A8","9B","8C","7E","64","4B","32","32","32","6A","01","90"]
["00000C40","64","05","78","64","00","4E","20","64","63","5F","64","01","90","3C","03","E8"]
["00000C50","64","64","64","64","64","64","64","00","4B","00","77","00","A8","00","E6","01"]
["00000C60","22","01","60","64","64","32","5A","6E","01","06","96","96","5A","82","96","00"]
["00000C70","01","45","02","64","0F","DC","1C","8A","B4","04","00","00","00","00","01","00"]
["00000C80","01","5F","88","0F","01","02","00","03","04","14","10","0A","03","00","28","4B"]
["00000C90","6E","96","BE","00","00","00","00","00","00","00","00","00","00","00","00","00"]
[null,"00","00","00","00","00","00","00","00","00","00","00","00","00","00","00","00"]
[null,"00","00","00","00","00","00","00","00","00","00","00","00","00","00","00","00"]
[null,"00","00","00","00","00","00","00","00","00","00","00","00","00","00","00","00"]
[null,"00","00","00","00","00","00","00","00","00","00","00","00","00","00","00","00"]
[null,"00","00","00","00","00","00","00","00","00","00","00","00","00","00","00","00"]

{"sheet":"original dec slots","index":4,"n_rows":42,"n_cols":17,"rows_kept":42,"cut":false,"hidden":true,"merged":[]}
[]
[]
[null,null,null,null,null,null,null,null,"Slot 1"]
[null,"00","01","02","03","04","05","06","07","08","09","0A","0A","0C","0D","0E","0F"]
["00000B10",{"$f":"HEX2DEC('original hex slots'!B8)","v":0},{"$f":"HEX2DEC('original hex slots'!C8)","v":2},{"$f":"HEX2DEC('original hex slots'!D8)","v":0},{"$f":"HEX2DEC('original hex slots'!E8)","v":1},{"$f":"HEX2DEC('original hex slots'!F8)","v":0},{"$f":"HEX2DEC('original hex slots'!G8)","v":10},{"$f":"HEX2DEC('original hex slots'!H8)","v":14},{"$f":"HEX2DEC('original hex slots'!I8)","v":16},{"$f":"HEX2DEC('original hex slots'!J8)","v":1},{"$f":"HEX2DEC('original hex slots'!K8)","v":8},{"$f":"HEX2DEC('original hex slots'!L8)","v":0},{"$f":"HEX2DEC('original hex slots'!M8)","v":5},{"$f":"HEX2DEC('original hex slots'!N8)","v":10},{"$f":"HEX2DEC('original hex slots'!O8)","v":190},{"$f":"HEX2DEC('original hex slots'!P8)","v":1},{"$f":"HEX2DEC('original hex slots'!Q8)","v":11}]
["00000B20",{"$f":"HEX2DEC('original hex slots'!B9)","v":46},{"$f":"HEX2DEC('original hex slots'!C9)","v":224},{"$f":"HEX2DEC('original hex slots'!D9)","v":46},{"$f":"HEX2DEC('original hex slots'!E9)","v":224},{"$f":"HEX2DEC('original hex slots'!F9)","v":101},{"$f":"HEX2DEC('original hex slots'!G9)","v":144},{"$f":"HEX2DEC('original hex slots'!H9)","v":1},{"$f":"HEX2DEC('original hex slots'!I9)","v":7},{"$f":"HEX2DEC('original hex slots'!J9)","v":90},{"$f":"HEX2DEC('original hex slots'!K9)","v":90},{"$f":"HEX2DEC('original hex slots'!L9)","v":190},{"$f":"HEX2DEC('original hex slots'!M9)","v":1},{"$f":"HEX2DEC('original hex slots'!N9)","v":10},{"$f":"HEX2DEC('original hex slots'!O9)","v":60},{"$f":"HEX2DEC('original hex slots'!P9)","v":60},{"$f":"HEX2DEC('original hex slots'!Q9)","v":120}]
["00000B30",{"$f":"HEX2DEC('original hex slots'!B10)","v":1},{"$f":"HEX2DEC('original hex slots'!C10)","v":4},{"$f":"HEX2DEC('original hex slots'!D10)","v":46},{"$f":"HEX2DEC('original hex slots'!E10)","v":224},{"$f":"HEX2DEC('original hex slots'!F10)","v":46},{"$f":"HEX2DEC('original hex slots'!G10)","v":224},{"$f":"HEX2DEC('original hex slots'!H10)","v":50},{"$f":"HEX2DEC('original hex slots'!I10)","v":200},{"$f":"HEX2DEC('original hex slots'!J10)","v":1},{"$f":"HEX2DEC('original hex slots'!K10)","v":4},{"$f":"HEX2DEC('original hex slots'!L10)","v":46},{"$f":"HEX2DEC('original hex slots'!M10)","v":224},{"$f":"HEX2DEC('original hex slots'!N10)","v":46},{"$f":"HEX2DEC('original hex slots'!O10)","v":224},{"$f":"HEX2DEC('original hex slots'!P10)","v":52},{"$f":"HEX2DEC('original hex slots'!Q10)","v":88}]
["00000B40",{"$f":"HEX2DEC('original hex slots'!B11)","v":1},{"$f":"HEX2DEC('original hex slots'!C11)","v":7},{"$f":"HEX2DEC('original hex slots'!D11)","v":110},{"$f":"HEX2DEC('original hex slots'!E11)","v":110},{"$f":"HEX2DEC('original hex slots'!F11)","v":160},{"$f":"HEX2DEC('original hex slots'!G11)","v":1},{"$f":"HEX2DEC('original hex slots'!H11)","v":5},{"$f":"HEX2DEC('original hex slots'!I11)","v":0},{"$f":"HEX2DEC('original hex slots'!J11)","v":0},{"$f":"HEX2DEC('original hex slots'!K11)","v":25},{"$f":"HEX2DEC('original hex slots'!L11)","v":10},{"$f":"HEX2DEC('original hex slots'!M11)","v":10},{"$f":"HEX2DEC('original hex slots'!N11)","v":39},{"$f":"HEX2DEC('original hex slots'!O11)","v":16},{"$f":"HEX2DEC('original hex slots'!P11)","v":39},{"$f":"HEX2DEC('original hex slots'!Q11)","v":16}]
["00000B50",{"$f":"HEX2DEC('original hex slots'!B12)","v":54},{"$f":"HEX2DEC('original hex slots'!C12)","v":176},{"$f":"HEX2DEC('original hex slots'!D12)","v":1},{"$f":"HEX2DEC('original hex slots'!E12)","v":10},{"$f":"HEX2DEC('original hex slots'!F12)","v":95},{"$f":"HEX2DEC('original hex slots'!G12)","v":95},{"$f":"HEX2DEC('original hex slots'!H12)","v":145},{"$f":"HEX2DEC('original hex slots'!I12)","v":1},{"$f":"HEX2DEC('original hex slots'!J12)","v":10},{"$f":"HEX2DEC('original hex slots'!K12)","v":100},{"$f":"HEX2DEC('original hex slots'!L12)","v":100},{"$f":"HEX2DEC('original hex slots'!M12)","v":110},{"$f":"HEX2DEC('original hex slots'!N12)","v":1},{"$f":"HEX2DEC('original hex slots'!O12)","v":0},{"$f":"HEX2DEC('original hex slots'!P12)","v":0},{"$f":"HEX2DEC('original hex slots'!Q12)","v":0}]
["00000B60",{"$f":"HEX2DEC('original hex slots'!B13)","v":10},{"$f":"HEX2DEC('original hex slots'!C13)","v":1},{"$f":"HEX2DEC('original hex slots'!D13)","v":0},{"$f":"HEX2DEC('original hex slots'!E13)","v":0},{"$f":"HEX2DEC('original hex slots'!F13)","v":0},{"$f":"HEX2DEC('original hex slots'!G13)","v":140},{"$f":"HEX2DEC('original hex slots'!H13)","v":1},{"$f":"HEX2DEC('original hex slots'!I13)","v":7},{"$f":"HEX2DEC('original hex slots'!J13)","v":46},{"$f":"HEX2DEC('original hex slots'!K13)","v":224},{"$f":"HEX2DEC('original hex slots'!L13)","v":50},{"$f":"HEX2DEC('original hex slots'!M13)","v":200},{"$f":"HEX2DEC('original hex slots'!N13)","v":132},{"$f":"HEX2DEC('original hex slots'!O13)","v":208},{"$f":"HEX2DEC('original hex slots'!P13)","v":1},{"$f":"HEX2DEC('original hex slots'!Q13)","v":11}]
["00000B70",{"$f":"HEX2DEC('original hex slots'!B14)","v":0},{"$f":"HEX2DEC('original hex slots'!C14)","v":1},{"$f":"HEX2DEC('original hex slots'!D14)","v":2},{"$f":"HEX2DEC('original hex slots'!E14)","v":3},{"$f":"HEX2DEC('original hex slots'!F14)","v":4},{"$f":"HEX2DEC('original hex slots'!G14)","v":5},{"$f":"HEX2DEC('original hex slots'!H14)","v":6},{"$f":"HEX2DEC('original hex slots'!I14)","v":7},{"$f":"HEX2DEC('original hex slots'!J14)","v":2},{"$f":"HEX2DEC('original hex slots'!K14)","v":4},{"$f":"HEX2DEC('original hex slots'!L14)","v":0},{"$f":"HEX2DEC('original hex slots'!M14)","v":9},{"$f":"HEX2DEC('original hex slots'!N14)","v":1},{"$f":"HEX2DEC('original hex slots'!O14)","v":0},{"$f":"HEX2DEC('original hex slots'!P14)","v":1},{"$f":"HEX2DEC('original hex slots'!Q14)","v":1}]
["00000B80",{"$f":"HEX2DEC('original hex slots'!B15)","v":1},{"$f":"HEX2DEC('original hex slots'!C15)","v":1},{"$f":"HEX2DEC('original hex slots'!D15)","v":1},{"$f":"HEX2DEC('original hex slots'!E15)","v":0},{"$f":"HEX2DEC('original hex slots'!F15)","v":1},{"$f":"HEX2DEC('original hex slots'!G15)","v":128},{"$f":"HEX2DEC('original hex slots'!H15)","v":128},{"$f":"HEX2DEC('original hex slots'!I15)","v":128},{"$f":"HEX2DEC('original hex slots'!J15)","v":128},{"$f":"HEX2DEC('original hex slots'!K15)","v":117},{"$f":"HEX2DEC('original hex slots'!L15)","v":117},{"$f":"HEX2DEC('original hex slots'!M15)","v":117},{"$f":"HEX2DEC('original hex slots'!N15)","v":114},{"$f":"HEX2DEC('original hex slots'!O15)","v":107},{"$f":"HEX2DEC('original hex slots'!P15)","v":106},{"$f":"HEX2DEC('original hex slots'!Q15)","v":104}]
["00000B90",{"$f":"HEX2DEC('original hex slots'!B16)","v":101},{"$f":"HEX2DEC('original hex slots'!C16)","v":97},{"$f":"HEX2DEC('original hex slots'!D16)","v":96},{"$f":"HEX2DEC('original hex slots'!E16)","v":94},{"$f":"HEX2DEC('original hex slots'!F16)","v":97},{"$f":"HEX2DEC('original hex slots'!G16)","v":90},{"$f":"HEX2DEC('original hex slots'!H16)","v":88},{"$f":"HEX2DEC('original hex slots'!I16)","v":84},{"$f":"HEX2DEC('original hex slots'!J16)","v":97},{"$f":"HEX2DEC('original hex slots'!K16)","v":84},{"$f":"HEX2DEC('original hex slots'!L16)","v":81},{"$f":"HEX2DEC('original hex slots'!M16)","v":75},{"$f":"HEX2DEC('original hex slots'!N16)","v":97},{"$f":"HEX2DEC('original hex slots'!O16)","v":79},{"$f":"HEX2DEC('original hex slots'!P16)","v":75},{"$f":"HEX2DEC('original hex slots'!Q16)","v":68}]
["00000BA0",{"$f":"HEX2DEC('original hex slots'!B17)","v":97},{"$f":"HEX2DEC('original hex slots'!C17)","v":75},{"$f":"HEX2DEC('original hex slots'!D17)","v":70},{"$f":"HEX2DEC('original hex slots'!E17)","v":62},{"$f":"HEX2DEC('original hex slots'!F17)","v":97},{"$f":"HEX2DEC('original hex slots'!G17)","v":74},{"$f":"HEX2DEC('original hex slots'!H17)","v":68},{"$f":"HEX2DEC('original hex slots'!I17)","v":62},{"$f":"HEX2DEC('original hex slots'!J17)","v":97},{"$f":"HEX2DEC('original hex slots'!K17)","v":75},{"$f":"HEX2DEC('original hex slots'!L17)","v":68},{"$f":"HEX2DEC('original hex slots'!M17)","v":62},{"$f":"HEX2DEC('original hex slots'!N17)","v":97},{"$f":"HEX2DEC('original hex slots'!O17)","v":77},{"$f":"HEX2DEC('original hex slots'!P17)","v":68},{"$f":"HEX2DEC('original hex slots'!Q17)","v":62}]
["00000BB0",{"$f":"HEX2DEC('original hex slots'!B18)","v":97},{"$f":"HEX2DEC('original hex slots'!C18)","v":77},{"$f":"HEX2DEC('original hex slots'!D18)","v":68},{"$f":"HEX2DEC('original hex slots'!E18)","v":62},{"$f":"HEX2DEC('original hex slots'!F18)","v":97},{"$f":"HEX2DEC('original hex slots'!G18)","v":128},{"$f":"HEX2DEC('original hex slots'!H18)","v":128},{"$f":"HEX2DEC('original hex slots'!I18)","v":128},{"$f":"HEX2DEC('original hex slots'!J18)","v":128},{"$f":"HEX2DEC('original hex slots'!K18)","v":131},{"$f":"HEX2DEC('original hex slots'!L18)","v":131},{"$f":"HEX2DEC('original hex slots'!M18)","v":131},{"$f":"HEX2DEC('original hex slots'!N18)","v":131},{"$f":"HEX2DEC('original hex slots'!O18)","v":133},{"$f":"HEX2DEC('original hex slots'!P18)","v":133},{"$f":"HEX2DEC('original hex slots'!Q18)","v":132}]
["00000BC0",{"$f":"HEX2DEC('original hex slots'!B19)","v":129},{"$f":"HEX2DEC('original hex slots'!C19)","v":136},{"$f":"HEX2DEC('original hex slots'!D19)","v":135},{"$f":"HEX2DEC('original hex slots'!E19)","v":135},{"$f":"HEX2DEC('original hex slots'!F19)","v":127},{"$f":"HEX2DEC('original hex slots'!G19)","v":140},{"$f":"HEX2DEC('original hex slots'!H19)","v":139},{"$f":"HEX2DEC('original hex slots'!I19)","v":137},{"$f":"HEX2DEC('original hex slots'!J19)","v":127},{"$f":"HEX2DEC('original hex slots'!K19)","v":144},{"$f":"HEX2DEC('original hex slots'!L19)","v":143},{"$f":"HEX2DEC('original hex slots'!M19)","v":140},{"$f":"HEX2DEC('original hex slots'!N19)","v":127},{"$f":"HEX2DEC('original hex slots'!O19)","v":151},{"$f":"HEX2DEC('original hex slots'!P19)","v":149},{"$f":"HEX2DEC('original hex slots'!Q19)","v":143}]
["00000BD0",{"$f":"HEX2DEC('original hex slots'!B20)","v":127},{"$f":"HEX2DEC('original hex slots'!C20)","v":158},{"$f":"HEX2DEC('original hex slots'!D20)","v":155},{"$f":"HEX2DEC('original hex slots'!E20)","v":143},{"$f":"HEX2DEC('original hex slots'!F20)","v":127},{"$f":"HEX2DEC('original hex slots'!G20)","v":168},{"$f":"HEX2DEC('original hex slots'!H20)","v":162},{"$f":"HEX2DEC('original hex slots'!I20)","v":143},{"$f":"HEX2DEC('original hex slots'!J20)","v":127},{"$f":"HEX2DEC('original hex slots'!K20)","v":179},{"$f":"HEX2DEC('original hex slots'!L20)","v":162},{"$f":"HEX2DEC('original hex slots'!M20)","v":143},{"$f":"HEX2DEC('original hex slots'!N20)","v":127},{"$f":"HEX2DEC('original hex slots'!O20)","v":186},{"$f":"HEX2DEC('original hex slots'!P20)","v":162},{"$f":"HEX2DEC('original hex slots'!Q20)","v":143}]
["00000BE0",{"$f":"HEX2DEC('original hex slots'!B21)","v":127},{"$f":"HEX2DEC('original hex slots'!C21)","v":186},{"$f":"HEX2DEC('original hex slots'!D21)","v":162},{"$f":"HEX2DEC('original hex slots'!E21)","v":143},{"$f":"HEX2DEC('original hex slots'!F21)","v":127},{"$f":"HEX2DEC('original hex slots'!G21)","v":20},{"$f":"HEX2DEC('original hex slots'!H21)","v":80},{"$f":"HEX2DEC('original hex slots'!I21)","v":110},{"$f":"HEX2DEC('original hex slots'!J21)","v":1},{"$f":"HEX2DEC('original hex slots'!K21)","v":50},{"$f":"HEX2DEC('original hex slots'!L21)","v":1},{"$f":"HEX2DEC('original hex slots'!M21)","v":40},{"$f":"HEX2DEC('original hex slots'!N21)","v":5},{"$f":"HEX2DEC('original hex slots'!O21)","v":150},{"$f":"HEX2DEC('original hex slots'!P21)","v":35},{"$f":"HEX2DEC('original hex slots'!Q21)","v":0}]
["00000BF0",{"$f":"HEX2DEC('original hex slots'!B22)","v":0},{"$f":"HEX2DEC('original hex slots'!C22)","v":0},{"$f":"HEX2DEC('original hex slots'!D22)","v":0},{"$f":"HEX2DEC('original hex slots'!E22)","v":0},{"$f":"HEX2DEC('original hex slots'!F22)","v":0},{"$f":"HEX2DEC('original hex slots'!G22)","v":0},{"$f":"HEX2DEC('original hex slots'!H22)","v":0},{"$f":"HEX2DEC('original hex slots'!I22)","v":0},{"$f":"HEX2DEC('original hex slots'!J22)","v":0},{"$f":"HEX2DEC('original hex slots'!K22)","v":0},{"$f":"HEX2DEC('original hex slots'!L22)","v":0},{"$f":"HEX2DEC('original hex slots'!M22)","v":0},{"$f":"HEX2DEC('original hex slots'!N22)","v":0},{"$f":"HEX2DEC('original hex slots'!O22)","v":0},{"$f":"HEX2DEC('original hex slots'!P22)","v":0},{"$f":"HEX2DEC('original hex slots'!Q22)","v":0}]
[]
[]
["torque decimal normal and sport /2",null,null,null,null,null,null,null,"Slot 2"]
[null,"00","01","02","03","04","05","06","07","08","09","0A","0A","0C","0D","0E","0F"]
["00000C00",{"$f":"HEX2DEC('original hex slots'!B27)","v":0},{"$f":"HEX2DEC('original hex slots'!C27)","v":1},{"$f":"HEX2DEC('original hex slots'!D27)","v":0},{"$f":"HEX2DEC('original hex slots'!E27)","v":2},{"$f":"HEX2DEC('original hex slots'!F27)","v":0},{"$f":"HEX2DEC('original hex slots'!G27)","v":82},{"$f":"HEX2DEC('original hex slots'!H27)","v":95},{"$f":"HEX2DEC('original hex slots'!I27)","v":111},{"$f":"HEX2DEC('original hex slots'!J27)","v":127},{"$f":"HEX2DEC('original hex slots'!K27)","v":143},{"$f":"HEX2DEC('original hex slots'!L27)","v":154},{"$f":"HEX2DEC('original hex slots'!M27)","v":163},{"$f":"HEX2DEC('original hex slots'!N27)","v":167},{"$f":"HEX2DEC('original hex slots'!O27)","v":170},{"$f":"HEX2DEC('original hex slots'!P27)","v":170},{"$f":"HEX2DEC('original hex slots'!Q27)","v":170}]
["00000C10",{"$f":"HEX2DEC('original hex slots'!B28)","v":168},{"$f":"HEX2DEC('original hex slots'!C28)","v":167},{"$f":"HEX2DEC('original hex slots'!D28)","v":166},{"$f":"HEX2DEC('original hex slots'!E28)","v":165},{"$f":"HEX2DEC('original hex slots'!F28)","v":163},{"$f":"HEX2DEC('original hex slots'!G28)","v":162},{"$f":"HEX2DEC('original hex slots'!H28)","v":161},{"$f":"HEX2DEC('original hex slots'!I28)","v":155},{"$f":"HEX2DEC('original hex slots'!J28)","v":149},{"$f":"HEX2DEC('original hex slots'!K28)","v":142},{"$f":"HEX2DEC('original hex slots'!L28)","v":134},{"$f":"HEX2DEC('original hex slots'!M28)","v":126},{"$f":"HEX2DEC('original hex slots'!N28)","v":100},{"$f":"HEX2DEC('original hex slots'!O28)","v":75},{"$f":"HEX2DEC('original hex slots'!P28)","v":50},{"$f":"HEX2DEC('original hex slots'!Q28)","v":50}]
["00000C20",{"$f":"HEX2DEC('original hex slots'!B29)","v":50},{"$f":"HEX2DEC('original hex slots'!C29)","v":82},{"$f":"HEX2DEC('original hex slots'!D29)","v":95},{"$f":"HEX2DEC('original hex slots'!E29)","v":111},{"$f":"HEX2DEC('original hex slots'!F29)","v":127},{"$f":"HEX2DEC('original hex slots'!G29)","v":146},{"$f":"HEX2DEC('original hex slots'!H29)","v":158},{"$f":"HEX2DEC('original hex slots'!I29)","v":170},{"$f":"HEX2DEC('original hex slots'!J29)","v":180},{"$f":"HEX2DEC('original hex slots'!K29)","v":180},{"$f":"HEX2DEC('original hex slots'!L29)","v":180},{"$f":"HEX2DEC('original hex slots'!M29)","v":180},{"$f":"HEX2DEC('original hex slots'!N29)","v":180},{"$f":"HEX2DEC('original hex slots'!O29)","v":180},{"$f":"HEX2DEC('original hex slots'!P29)","v":180},{"$f":"HEX2DEC('original hex slots'!Q29)","v":180}]
["00000C30",{"$f":"HEX2DEC('original hex slots'!B30)","v":180},{"$f":"HEX2DEC('original hex slots'!C30)","v":178},{"$f":"HEX2DEC('original hex slots'!D30)","v":177},{"$f":"HEX2DEC('original hex slots'!E30)","v":176},{"$f":"HEX2DEC('original hex slots'!F30)","v":168},{"$f":"HEX2DEC('original hex slots'!G30)","v":155},{"$f":"HEX2DEC('original hex slots'!H30)","v":140},{"$f":"HEX2DEC('original hex slots'!I30)","v":126},{"$f":"HEX2DEC('original hex slots'!J30)","v":100},{"$f":"HEX2DEC('original hex slots'!K30)","v":75},{"$f":"HEX2DEC('original hex slots'!L30)","v":50},{"$f":"HEX2DEC('original hex slots'!M30)","v":50},{"$f":"HEX2DEC('original hex slots'!N30)","v":50},{"$f":"HEX2DEC('original hex slots'!O30)","v":106},{"$f":"HEX2DEC('original hex slots'!P30)","v":1},{"$f":"HEX2DEC('original hex slots'!Q30)","v":144}]
["00000C40",{"$f":"HEX2DEC('original hex slots'!B31)","v":100},{"$f":"HEX2DEC('original hex slots'!C31)","v":5},{"$f":"HEX2DEC('original hex slots'!D31)","v":120},{"$f":"HEX2DEC('original hex slots'!E31)","v":100},{"$f":"HEX2DEC('original hex slots'!F31)","v":0},{"$f":"HEX2DEC('original hex slots'!G31)","v":78},{"$f":"HEX2DEC('original hex slots'!H31)","v":32},{"$f":"HEX2DEC('original hex slots'!I31)","v":100},{"$f":"HEX2DEC('original hex slots'!J31)","v":99},{"$f":"HEX2DEC('original hex slots'!K31)","v":95},{"$f":"HEX2DEC('original hex slots'!L31)","v":100},{"$f":"HEX2DEC('original hex slots'!M31)","v":1},{"$f":"HEX2DEC('original hex slots'!N31)","v":144},{"$f":"HEX2DEC('original hex slots'!O31)","v":60},{"$f":"HEX2DEC('original hex slots'!P31)","v":3},{"$f":"HEX2DEC('original hex slots'!Q31)","v":232}]
["00000C50",{"$f":"HEX2DEC('original hex slots'!B32)","v":100},{"$f":"HEX2DEC('original hex slots'!C32)","v":100},{"$f":"HEX2DEC('original hex slots'!D32)","v":100},{"$f":"HEX2DEC('original hex slots'!E32)","v":100},{"$f":"HEX2DEC('original hex slots'!F32)","v":100},{"$f":"HEX2DEC('original hex slots'!G32)","v":100},{"$f":"HEX2DEC('original hex slots'!H32)","v":100},{"$f":"HEX2DEC('original hex slots'!I32)","v":0},{"$f":"HEX2DEC('original hex slots'!J32)","v":75},{"$f":"HEX2DEC('original hex slots'!K32)","v":0},{"$f":"HEX2DEC('original hex slots'!L32)","v":119},{"$f":"HEX2DEC('original hex slots'!M32)","v":0},{"$f":"HEX2DEC('original hex slots'!N32)","v":168},{"$f":"HEX2DEC('original hex slots'!O32)","v":0},{"$f":"HEX2DEC('original hex slots'!P32)","v":230},{"$f":"HEX2DEC('original hex slots'!Q32)","v":1}]
["00000C60",{"$f":"HEX2DEC('original hex slots'!B33)","v":34},{"$f":"HEX2DEC('original hex slots'!C33)","v":1},{"$f":"HEX2DEC('original hex slots'!D33)","v":96},{"$f":"HEX2DEC('original hex slots'!E33)","v":100},{"$f":"HEX2DEC('original hex slots'!F33)","v":100},{"$f":"HEX2DEC('original hex slots'!G33)","v":50},{"$f":"HEX2DEC('original hex slots'!H33)","v":90},{"$f":"HEX2DEC('original hex slots'!I33)","v":110},{"$f":"HEX2DEC('original hex slots'!J33)","v":1},{"$f":"HEX2DEC('original hex slots'!K33)","v":6},{"$f":"HEX2DEC('original hex slots'!L33)","v":150},{"$f":"HEX2DEC('original hex slots'!M33)","v":150},{"$f":"HEX2DEC('original hex slots'!N33)","v":90},{"$f":"HEX2DEC('original hex slots'!O33)","v":130},{"$f":"HEX2DEC('original hex slots'!P33)","v":150},{"$f":"HEX2DEC('original hex slots'!Q33)","v":0}]
["00000C70",{"$f":"HEX2DEC('original hex slots'!B34)","v":1},{"$f":"HEX2DEC('original hex slots'!C34)","v":69},{"$f":"HEX2DEC('original hex slots'!D34)","v":2},{"$f":"HEX2DEC('original hex slots'!E34)","v":100},{"$f":"HEX2DEC('original hex slots'!F34)","v":15},{"$f":"HEX2DEC('original hex slots'!G34)","v":220},{"$f":"HEX2DEC('original hex slots'!H34)","v":28},{"$f":"HEX2DEC('original hex slots'!I34)","v":138},{"$f":"HEX2DEC('original hex slots'!J34)","v":180},{"$f":"HEX2DEC('original hex slots'!K34)","v":4},{"$f":"HEX2DEC('original hex slots'!L34)","v":0},{"$f":"HEX2DEC('original hex slots'!M34)","v":0},{"$f":"HEX2DEC('original hex slots'!N34)","v":0},{"$f":"HEX2DEC('original hex slots'!O34)","v":0},{"$f":"HEX2DEC('original hex slots'!P34)","v":1},{"$f":"HEX2DEC('original hex slots'!Q34)","v":0}]
["00000C80",{"$f":"HEX2DEC('original hex slots'!B35)","v":1},{"$f":"HEX2DEC('original hex slots'!C35)","v":95},{"$f":"HEX2DEC('original hex slots'!D35)","v":136},{"$f":"HEX2DEC('original hex slots'!E35)","v":15},{"$f":"HEX2DEC('original hex slots'!F35)","v":1},{"$f":"HEX2DEC('original hex slots'!G35)","v":2},{"$f":"HEX2DEC('original hex slots'!H35)","v":0},{"$f":"HEX2DEC('original hex slots'!I35)","v":3},{"$f":"HEX2DEC('original hex slots'!J35)","v":4},{"$f":"HEX2DEC('original hex slots'!K35)","v":20},{"$f":"HEX2DEC('original hex slots'!L35)","v":16},{"$f":"HEX2DEC('original hex slots'!M35)","v":10},{"$f":"HEX2DEC('original hex slots'!N35)","v":3},{"$f":"HEX2DEC('original hex slots'!O35)","v":0},{"$f":"HEX2DEC('original hex slots'!P35)","v":40},{"$f":"HEX2DEC('original hex slots'!Q35)","v":75}]
["00000C90",{"$f":"HEX2DEC('original hex slots'!B36)","v":110},{"$f":"HEX2DEC('original hex slots'!C36)","v":150},{"$f":"HEX2DEC('original hex slots'!D36)","v":190},{"$f":"HEX2DEC('original hex slots'!E36)","v":0},{"$f":"HEX2DEC('original hex slots'!F36)","v":0},{"$f":"HEX2DEC('original hex slots'!G36)","v":0},{"$f":"HEX2DEC('original hex slots'!H36)","v":0},{"$f":"HEX2DEC('original hex slots'!I36)","v":0},{"$f":"HEX2DEC('original hex slots'!J36)","v":0},{"$f":"HEX2DEC('original hex slots'!K36)","v":0},{"$f":"HEX2DEC('original hex slots'!L36)","v":0},{"$f":"HEX2DEC('original hex slots'!M36)","v":0},{"$f":"HEX2DEC('original hex slots'!N36)","v":0},{"$f":"HEX2DEC('original hex slots'!O36)","v":0},{"$f":"HEX2DEC('original hex slots'!P36)","v":0},{"$f":"HEX2DEC('original hex slots'!Q36)","v":0}]
[]
[]
[]
["real torque decimal normal and sport",null,null,null,null,null,null,null,"Slot 2"]
[null,"00","01","02","03","04","05","06","07","08","09","0A","0A","0C","0D","0E","0F"]
["00000C00",{"$f":"HEX2DEC('original hex slots'!B42)","v":0},{"$f":"HEX2DEC('original hex slots'!C42)","v":0},{"$f":"HEX2DEC('original hex slots'!D42)","v":0},{"$f":"HEX2DEC('original hex slots'!E42)","v":0},{"$f":"HEX2DEC('original hex slots'!F42)","v":0},{"$f":"G24*2","v":164},{"$f":"H24*2","v":190},222,254,286,308,326,334,340,340,340]
["00000C10",{"$f":"B25*2","v":336},{"$f":"C25*2","v":334},332,330,326,{"$f":"G25*2","v":324},322,310,298,284,268,252,200,150,100,100]
["00000C20",{"$f":"B26*2","v":100},164,190,222,254,{"$f":"G26*2","v":292},316,340,360,360,360,360,360,360,360,360]
["00000C30",{"$f":"B27*2","v":360},356,354,352,336,310,280,252,200,150,100,100,100,{"$f":"HEX2DEC('original hex slots'!O45)","v":0},{"$f":"HEX2DEC('original hex slots'!P45)","v":0},{"$f":"HEX2DEC('original hex slots'!Q45)","v":0}]